BEGIN:VCALENDAR
VERSION:2.0
PRODID:-//ChamberMaster//Event Calendar 2.0//EN
METHOD:PUBLISH
X-PUBLISHED-TTL:P3D
REFRESH-INTERVAL:P3D
CALSCALE:GREGORIAN
BEGIN:VEVENT
DTSTART:20130501T123000Z
DTEND:20130501T140000Z
X-MICROSOFT-CDO-ALLDAYEVENT:FALSE
SUMMARY:First-to-Know Breakfast
DESCRIPTION:You are invited to join the \n	\n		Economic Development Foundation \n	\n		for a First-to-Know Breakfast on \n	\n		Wednesday\, May 1st\, 7:30 a.m. \n	\n		at the Oxford Conference Center.\n	\n		 \n	\n		The EDF will host \n	\n		Congressman Alan Nunnelee\n	\n		as he brings information from Washington\, D.C. \n	\n		to Lafayette County.
X-ALT-DESC;FMTTYPE=text/html:<div style="color: gray\;">\n	<p align="center" style="margin: 0in 0in 0pt\; text-align: center\;">\n		<span style="font-size: 14px\;"><span style="color: rgb(51\, 51\, 51)\; font-family: \;" trebuchet="">You are invited to join the </span></span></p>\n	<p align="center" style="margin: 0in 0in 0pt\; text-align: center\;">\n		<span style="font-size: 14px\;"><span style="color: rgb(51\, 51\, 51)\; font-family: \;" trebuchet="">Economic Development Foundation </span></span></p>\n	<p align="center" style="margin: 0in 0in 0pt\; text-align: center\;">\n		<span style="font-size: 14px\;"><span style="color: rgb(51\, 51\, 51)\; font-family: \;" trebuchet="">for a First-to-Know Breakfast on </span></span></p>\n	<p align="center" style="margin: 0in 0in 0pt\; text-align: center\;">\n		<span style="font-size: 14px\;"><span style="color: rgb(51\, 51\, 51)\; font-family: \;" trebuchet="">Wednesday\, May 1st\, 7:30 a.m. </span></span></p>\n	<p align="center" style="margin: 0in 0in 0pt\; text-align: center\;">\n		<span style="font-size: 14px\;"><span style="color: rgb(51\, 51\, 51)\; font-family: \;" trebuchet="">at the Oxford Conference Center.</span></span></p>\n	<p style="margin: 0in 0in 0pt\; text-align: justify\;">\n		<span style="font-size: 14px\;"><span style="color: rgb(51\, 51\, 51)\; font-family: \;" trebuchet="">&nbsp\;</span></span></p>\n	<p align="center" style="margin: 0in 0in 0pt\; text-align: center\;">\n		<span style="font-size: 14px\;"><strong><span style="color: rgb(51\, 51\, 51)\; font-family: \;" trebuchet="">The EDF will host </span></strong></span></p>\n	<p align="center" style="margin: 0in 0in 0pt\; text-align: center\;">\n		<span style="font-size: 14px\;"><strong><span style="color: rgb(51\, 51\, 51)\; font-family: \;" trebuchet="">Congressman Alan Nunnelee</span></strong></span></p>\n	<p align="center" style="margin: 0in 0in 0pt\; text-align: center\;">\n		<span style="font-size: 14px\;"><strong><span style="color: rgb(51\, 51\, 51)\; font-family: \;" trebuchet="">as he brings information from Washington\, D.C. </span></strong></span></p>\n	<p align="center" style="margin: 0in 0in 0pt\; text-align: center\;">\n		<span style="font-size: 14px\;"><strong><span style="color: rgb(51\, 51\, 51)\; font-family: \;" trebuchet="">to Lafayette County.</span></strong></span></p>\n</div>\n
LOCATION:The Oxford Conference Center 102 Ed Perry Boulevard Oxford\, Mississippi 38655
UID:e.1330.152
SEQUENCE:3
DTSTAMP:20260426T001141Z
URL:http://oxfordms.chambermaster.com/events/details/first-to-know-breakfast-05-01-2013-152
END:VEVENT

END:VCALENDAR
