BEGIN:VCALENDAR
VERSION:2.0
PRODID:-//ChamberMaster//Event Calendar 2.0//EN
METHOD:PUBLISH
X-PUBLISHED-TTL:P3D
REFRESH-INTERVAL:P3D
CALSCALE:GREGORIAN
BEGIN:VEVENT
DTSTART:20130326T204500Z
DTEND:20130326T213000Z
X-MICROSOFT-CDO-ALLDAYEVENT:FALSE
SUMMARY:Mini Masters
DESCRIPTION:Join this fun\, drop-in workshop for toddlers and a parent/guardian at the UM Museum!  For this workshop\, our Mini Masters will be inspired by our recent exhibition\, "Independent Expression: Self-taught Art of the Late 20th Century\," and create Folk Art Sculptures.
X-ALT-DESC;FMTTYPE=text/html:<p class="p1">\n	Join this fun\, drop-in workshop for toddlers and a parent/guardian at the UM Museum! &nbsp\;For this workshop\, our Mini Masters will be inspired by our recent exhibition\, &quot\;Independent Expression: Self-taught Art of the Late 20th Century\,&quot\; and create Folk Art Sculptures.</p>\n
LOCATION:The University of Mississippi Museum
UID:e.1330.120
SEQUENCE:3
DTSTAMP:20260419T144539Z
URL:http://oxfordms.chambermaster.com/events/details/mini-masters-03-26-2013-120
END:VEVENT

END:VCALENDAR
